BEGIN:VCALENDAR
VERSION:2.0
PRODID:TypiCMS
X-PUBLISHED-TTL:P1W
BEGIN:VEVENT
UID:69e8f579a31b1
DTSTART;TZID=Europe/Brussels:20250819T000000
SEQUENCE:0
TRANSP:OPAQUE
DTEND;TZID=Europe/Brussels:20250819T235900
URL:https://voiceeu.org/index.php/activities/world-humanitarian-day-2025
LOCATION: –  – 
SUMMARY:World Humanitarian Day 2025
CLASS:PUBLIC
DTSTAMP:20260422T182113Z
END:VEVENT
END:VCALENDAR