BEGIN:VCALENDAR
VERSION:2.0
PRODID:TypiCMS
X-PUBLISHED-TTL:P1W
BEGIN:VEVENT
UID:69ec170e67b7a
DTSTART;TZID=Europe/Brussels:20201007T140000
SEQUENCE:0
TRANSP:OPAQUE
DTEND;TZID=Europe/Brussels:20201007T153000
URL:https://voiceeu.org/index.php/activities/webinar-engaging-with-faith-ac
 tors-building-on-lessons-of-covid-19
LOCATION: –  – 
SUMMARY:Webinar: Engaging with faith actors: building on lessons of COVID-1
 9
CLASS:PUBLIC
DTSTAMP:20260425T032118Z
END:VEVENT
END:VCALENDAR