BEGIN:VCALENDAR
VERSION:2.0
PRODID:TypiCMS
X-PUBLISHED-TTL:P1W
BEGIN:VEVENT
UID:69e87f170f46d
DTSTART;TZID=Europe/Brussels:20251204T133000
SEQUENCE:0
TRANSP:OPAQUE
DTEND;TZID=Europe/Brussels:20251204T170000
URL:https://voiceeu.org/index.php/activities/voice-workshop-shaping-the-fut
 ure-of-eu-humanitarian-action-priorities-for-the-next-communication
LOCATION: – Bruxelles – Belgium
SUMMARY:VOICE Workshop \"Shaping the Future of EU Humanitarian Action: Prio
 rities for the Next Communication\"
CLASS:PUBLIC
DTSTAMP:20260422T095607Z
END:VEVENT
END:VCALENDAR