BEGIN:VCALENDAR
VERSION:2.0
PRODID:TypiCMS
X-PUBLISHED-TTL:P1W
BEGIN:VEVENT
UID:69eb9218855bb
DTSTART;TZID=Europe/Brussels:20201119T140000
SEQUENCE:0
TRANSP:OPAQUE
DTEND;TZID=Europe/Brussels:20201119T160000
URL:https://voiceeu.org/index.php/activities/voice-webinar-an-ngo-perspecti
 ve-on-the-drive-for-efficiency-in-the-humanitarian-sector
LOCATION: –  – 
SUMMARY:VOICE Webinar - The Grand Bargain and the drive for efficiency in t
 he humanitarian sector : Where do we stand? Discussing an NGO perspective 
 with EU stakeholders
CLASS:PUBLIC
DTSTAMP:20260424T175400Z
END:VEVENT
END:VCALENDAR