BEGIN:VCALENDAR
VERSION:2.0
PRODID:TypiCMS
X-PUBLISHED-TTL:P1W
BEGIN:VEVENT
UID:69ebc3401f7ff
DTSTART;TZID=Europe/Brussels:20201022T100000
SEQUENCE:0
TRANSP:OPAQUE
DTEND;TZID=Europe/Brussels:20201022T113000
URL:https://voiceeu.org/index.php/activities/voice-members-and-echo-call-on
 -climate-induced-displacement
LOCATION: –  – 
SUMMARY:VOICE members and ECHO call on climate induced displacement
CLASS:PUBLIC
DTSTAMP:20260424T212344Z
END:VEVENT
END:VCALENDAR