BEGIN:VCALENDAR
VERSION:2.0
PRODID:TypiCMS
X-PUBLISHED-TTL:P1W
BEGIN:VEVENT
UID:69e90bf8a6541
DTSTART;TZID=Europe/Brussels:20250625T174500
SEQUENCE:0
TRANSP:OPAQUE
DTEND;TZID=Europe/Brussels:20250625T200000
URL:https://voiceeu.org/index.php/activities/voice-event-navigating-geopoli
 tical-change-challenges-and-opportunities-for-humanitarian-action
LOCATION:Avenue des Arts 7/8\, 1210 – Bruxelles – Belgium
SUMMARY:VOICE Event: Navigating Geopolitical Change: Challenges and Opportu
 nities for Humanitarian Action
CLASS:PUBLIC
DTSTAMP:20260422T195712Z
END:VEVENT
END:VCALENDAR