BEGIN:VCALENDAR
VERSION:2.0
PRODID:TypiCMS
X-PUBLISHED-TTL:P1W
BEGIN:VEVENT
UID:69eae0970da5b
DTSTART;TZID=Europe/Brussels:20210318T100000
SEQUENCE:0
TRANSP:OPAQUE
DTEND;TZID=Europe/Brussels:20210318T130000
URL:https://voiceeu.org/index.php/activities/voice-drr-resilience-working-g
 roup-meeting-2
LOCATION: –  – 
SUMMARY:VOICE DRR-Resilience Working Group meeting
CLASS:PUBLIC
DTSTAMP:20260424T051639Z
END:VEVENT
END:VCALENDAR