BEGIN:VCALENDAR
VERSION:2.0
PRODID:TypiCMS
X-PUBLISHED-TTL:P1W
BEGIN:VEVENT
UID:69ebfe2ace4c0
DTSTART;TZID=Europe/Brussels:20201012T140000
SEQUENCE:0
TRANSP:OPAQUE
DTEND;TZID=Europe/Brussels:20201012T170000
URL:https://voiceeu.org/index.php/activities/voice-drr-resilience-working-g
 roup-meeting-1
LOCATION: –  – 
SUMMARY:VOICE DRR-Resilience Working Group meeting
CLASS:PUBLIC
DTSTAMP:20260425T013506Z
END:VEVENT
END:VCALENDAR