BEGIN:VCALENDAR
VERSION:2.0
PRODID:TypiCMS
X-PUBLISHED-TTL:P1W
BEGIN:VEVENT
UID:69ea83fa9a8f0
DTSTART;TZID=Europe/Brussels:20210329T123000
SEQUENCE:0
TRANSP:OPAQUE
DTEND;TZID=Europe/Brussels:20210329T140000
URL:https://voiceeu.org/index.php/activities/syria-conference-panel-food-se
 curity-and-livelihoods-humanitarian-response
LOCATION: –  – 
SUMMARY:Syria Conference\, Panel: Food Security and Livelihoods Humanitaria
 n Response
CLASS:PUBLIC
DTSTAMP:20260423T224130Z
END:VEVENT
END:VCALENDAR