BEGIN:VCALENDAR
VERSION:2.0
PRODID:TypiCMS
X-PUBLISHED-TTL:P1W
BEGIN:VEVENT
UID:69ea69328f3ad
DTSTART;TZID=Europe/Brussels:20210401T093000
SEQUENCE:0
TRANSP:OPAQUE
DTEND;TZID=Europe/Brussels:20210401T173000
URL:https://voiceeu.org/index.php/activities/round-table-humanitaire-regard
 s-croises-sur-l-insecurite
LOCATION: –  – 
SUMMARY:Round-table - Humanitaire : regards croisés sur l’insécurité-
CLASS:PUBLIC
DTSTAMP:20260423T204714Z
END:VEVENT
END:VCALENDAR