BEGIN:VCALENDAR
VERSION:2.0
PRODID:TypiCMS
X-PUBLISHED-TTL:P1W
BEGIN:VEVENT
UID:69e8dc3ebc127
DTSTART;TZID=Europe/Brussels:20251010T093000
SEQUENCE:0
TRANSP:OPAQUE
DTEND;TZID=Europe/Brussels:20251010T180000
URL:https://voiceeu.org/index.php/activities/rome-humanitarian-congress-1
LOCATION:Ara Pacis Museum & online – Rome – Italy
SUMMARY:INTERSOS: Rome Humanitarian Congress 
CLASS:PUBLIC
DTSTAMP:20260422T163334Z
END:VEVENT
END:VCALENDAR