BEGIN:VCALENDAR
VERSION:2.0
PRODID:TypiCMS
X-PUBLISHED-TTL:P1W
BEGIN:VEVENT
UID:69e8946012acb
DTSTART;TZID=Europe/Brussels:20251125T090000
SEQUENCE:0
TRANSP:OPAQUE
DTEND;TZID=Europe/Brussels:20251125T170000
URL:https://voiceeu.org/index.php/activities/resilience-nexus-working-group
 -meeting
LOCATION: – Bruxelles – Belgium
SUMMARY:Resilience-Nexus Working Group Meeting
CLASS:PUBLIC
DTSTAMP:20260422T112656Z
END:VEVENT
END:VCALENDAR