BEGIN:VCALENDAR
VERSION:2.0
PRODID:TypiCMS
X-PUBLISHED-TTL:P1W
BEGIN:VEVENT
UID:69e8306c5d5a7
DTSTART;TZID=Europe/Brussels:20260210T100000
SEQUENCE:0
TRANSP:OPAQUE
DTEND;TZID=Europe/Brussels:20260210T130000
URL:https://voiceeu.org/index.php/activities/resilience-nexus-working-group
 -meeting-1
LOCATION:rue royale 71 – Brussels\, Belgium – Belgium
SUMMARY:Resilience- Nexus Working Group Meeting
CLASS:PUBLIC
DTSTAMP:20260422T042028Z
END:VEVENT
END:VCALENDAR