BEGIN:VCALENDAR
VERSION:2.0
PRODID:TypiCMS
X-PUBLISHED-TTL:P1W
BEGIN:VEVENT
UID:69e931bb00b18
DTSTART;TZID=Europe/Brussels:20250624T143000
SEQUENCE:0
TRANSP:OPAQUE
DTEND;TZID=Europe/Brussels:20250624T163000
URL:https://voiceeu.org/index.php/activities/online-info-session-quality-la
 bel-for-humanitarian-aid-volunteering-european-commission
LOCATION: –  – 
SUMMARY:Online Event: Quality Label for Humanitarian Aid Volunteering - Eur
 opean Commission
CLASS:PUBLIC
DTSTAMP:20260422T223819Z
END:VEVENT
END:VCALENDAR