BEGIN:VCALENDAR
VERSION:2.0
PRODID:TypiCMS
X-PUBLISHED-TTL:P1W
BEGIN:VEVENT
UID:69eba98fb844d
DTSTART;TZID=Europe/Brussels:20201117T150000
SEQUENCE:0
TRANSP:OPAQUE
DTEND;TZID=Europe/Brussels:20201117T163000
URL:https://voiceeu.org/index.php/activities/launch-of-the-weworld-index-20
 20-women-and-children-in-times-of-covid-19
LOCATION: –  – 
SUMMARY:Launch of the WeWorld index 2020 Women and Children in times of Cov
 id-19
CLASS:PUBLIC
DTSTAMP:20260424T193407Z
END:VEVENT
END:VCALENDAR