BEGIN:VCALENDAR
VERSION:2.0
PRODID:TypiCMS
X-PUBLISHED-TTL:P1W
BEGIN:VEVENT
UID:69e80f81c311f
DTSTART;TZID=Europe/Brussels:20260123T100000
SEQUENCE:0
TRANSP:OPAQUE
DTEND;TZID=Europe/Brussels:20260212T180000
URL:https://voiceeu.org/index.php/activities/in-their-eyes-a-photographic-e
 xhibition-on-the-humanitarian-crisis-in-mali
LOCATION:Place Saint-Géry 1\, 1000 Brussels – Brussels\, Belgium – Bel
 gium
SUMMARY:“In Their Eyes”: a photographic exhibition on the  humanitarian
  crisis in Mali
CLASS:PUBLIC
DTSTAMP:20260422T020001Z
END:VEVENT
END:VCALENDAR