BEGIN:VCALENDAR
VERSION:2.0
PRODID:TypiCMS
X-PUBLISHED-TTL:P1W
BEGIN:VEVENT
UID:69e862af44139
DTSTART;TZID=Europe/Brussels:20251210T163000
SEQUENCE:0
TRANSP:OPAQUE
DTEND;TZID=Europe/Brussels:20251210T210000
URL:https://voiceeu.org/index.php/activities/engaging-armed-actors-to-stren
 gthen-civilian-protection-from-law-to-action-promoting-humanitarian-and-hu
 man-rights-norms-in-fragile-conflict-settings
LOCATION:Rue Jacques de Lalaing 8–14 – Brussels – Belgium
SUMMARY:Engaging Armed Actors to Strengthen Civilian Protection: From Law t
 o Action – Promoting Humanitarian  and Human Rights Norms in Fragile Con
 flict Settings
CLASS:PUBLIC
DTSTAMP:20260422T075455Z
END:VEVENT
END:VCALENDAR