BEGIN:VCALENDAR
VERSION:2.0
PRODID:TypiCMS
X-PUBLISHED-TTL:P1W
BEGIN:VEVENT
UID:69ea50205b6c1
DTSTART;TZID=Europe/Brussels:20210416T110000
SEQUENCE:0
TRANSP:OPAQUE
DTEND;TZID=Europe/Brussels:20210416T123000
URL:https://voiceeu.org/index.php/activities/egmont-and-ncr-webinar-the-fut
 ure-frame-of-eu-humanitarian-aid
LOCATION: –  – 
SUMMARY:Egmont and NCR webinar: The future frame of EU humanitarian aid
CLASS:PUBLIC
DTSTAMP:20260423T190016Z
END:VEVENT
END:VCALENDAR