BEGIN:VCALENDAR
VERSION:2.0
PRODID:TypiCMS
X-PUBLISHED-TTL:P1W
BEGIN:VEVENT
UID:69eb5cef3372a
DTSTART;TZID=Europe/Brussels:20201210T093000
SEQUENCE:0
TRANSP:OPAQUE
DTEND;TZID=Europe/Brussels:20201210T123000
URL:https://voiceeu.org/index.php/activities/dg-echo-voice-membership-excha
 nge-2020
LOCATION: –  – 
SUMMARY:DG ECHO-VOICE membership exchange 2020
CLASS:PUBLIC
DTSTAMP:20260424T140711Z
END:VEVENT
END:VCALENDAR