BEGIN:VCALENDAR
VERSION:2.0
PRODID:TypiCMS
X-PUBLISHED-TTL:P1W
BEGIN:VEVENT
UID:69e7ddc7c2240
DTSTART;TZID=Europe/Brussels:20260615T083000
SEQUENCE:0
TRANSP:OPAQUE
DTEND;TZID=Europe/Brussels:20260615T183000
URL:https://voiceeu.org/index.php/activities/dg-echo-partners-conference
LOCATION: – Brussels – 
SUMMARY:DG ECHO Partners’ Dialogue
CLASS:PUBLIC
DTSTAMP:20260421T222751Z
END:VEVENT
END:VCALENDAR