BEGIN:VCALENDAR
VERSION:2.0
PRODID:TypiCMS
X-PUBLISHED-TTL:P1W
BEGIN:VEVENT
UID:69eabf7f5d2aa
DTSTART;TZID=Europe/Brussels:20210323T150000
SEQUENCE:0
TRANSP:OPAQUE
DTEND;TZID=Europe/Brussels:20210323T163000
URL:https://voiceeu.org/index.php/activities/civilian-safety-in-armed-confl
 ict
LOCATION: –  – 
SUMMARY:Civilian Safety in Armed Conflict
CLASS:PUBLIC
DTSTAMP:20260424T025527Z
END:VEVENT
END:VCALENDAR