BEGIN:VCALENDAR
VERSION:2.0
PRODID:TypiCMS
X-PUBLISHED-TTL:P1W
BEGIN:VEVENT
UID:69e8c04bf0071
DTSTART;TZID=Europe/Brussels:20251022T134500
SEQUENCE:0
TRANSP:OPAQUE
DTEND;TZID=Europe/Brussels:20251022T144500
URL:https://voiceeu.org/index.php/activities/aidex-humanitarian-truth-under
 -fire-tackling-disinformation-and-misinformation-in-crises
LOCATION: – Geneva – Switzerland
SUMMARY:AidEx: Humanitarian truth under fire - Tackling disinformation and 
 misinformation in crises
CLASS:PUBLIC
DTSTAMP:20260422T143419Z
END:VEVENT
END:VCALENDAR