BEGIN:VCALENDAR
VERSION:2.0
PRODID:TypiCMS
X-PUBLISHED-TTL:P1W
BEGIN:VEVENT
UID:69ebdf9d63060
DTSTART;TZID=Europe/Brussels:20201016T150000
SEQUENCE:0
TRANSP:OPAQUE
DTEND;TZID=Europe/Brussels:20201016T163000
URL:https://voiceeu.org/index.php/activities/2020-global-hunger-index-launc
 h-one-decade-to-zero-hunger-linking-health-and-sustainable-food-systems
LOCATION: –  – 
SUMMARY:2020 Global Hunger Index Launch. One Decade to Zero Hunger - Linkin
 g Health and Sustainable Food Systems
CLASS:PUBLIC
DTSTAMP:20260424T232445Z
END:VEVENT
END:VCALENDAR