BEGIN:VCALENDAR
VERSION:2.0
PRODID:TypiCMS
X-PUBLISHED-TTL:P1W
BEGIN:VEVENT
UID:69eaa02cd0693
DTSTART;TZID=Europe/Brussels:20210324T093000
SEQUENCE:0
TRANSP:OPAQUE
DTEND;TZID=Europe/Brussels:20210324T103000
URL:https://voiceeu.org/index.php/activities/10-years-of-conflict-and-disab
 ility-among-syrian-people
LOCATION: –  – 
SUMMARY:10 Years of Conflict and Disability Among Syrian people
CLASS:PUBLIC
DTSTAMP:20260424T004148Z
END:VEVENT
END:VCALENDAR