BEGIN:VCALENDAR
VERSION:2.0
PRODID:TypiCMS
X-PUBLISHED-TTL:P1W
BEGIN:VEVENT
UID:69ecea95127fa
DTSTART;TZID=Europe/Brussels:20190819T000000
SEQUENCE:0
TRANSP:OPAQUE
DTEND;TZID=Europe/Brussels:20190819T235959
URL:https://voiceeu.org/activities/world-humanitarian-day
LOCATION: –  – 
SUMMARY:World Humanitarian Day
CLASS:PUBLIC
DTSTAMP:20260425T182349Z
END:VEVENT
END:VCALENDAR