BEGIN:VCALENDAR
VERSION:2.0
PRODID:TypiCMS
X-PUBLISHED-TTL:P1W
BEGIN:VEVENT
UID:69ed57061d869
DTSTART;TZID=Europe/Brussels:20191119T093000
SEQUENCE:0
TRANSP:OPAQUE
DTEND;TZID=Europe/Brussels:20191120T163000
URL:https://voiceeu.org/activities/workshop-the-impacts-of-eu-sanctions-and
 -counter-terrorism-legislation-on-humanitarian-action
LOCATION:158\, Rue Théodore Verhaegen\, 1060 Saint-Gilles – Brussels –
  Belgium
SUMMARY:VOICE Workshop: The Impacts of EU Sanctions and Counter-terrorism l
 egislation on Humanitarian Action. 
CLASS:PUBLIC
DTSTAMP:20260426T020630Z
END:VEVENT
END:VCALENDAR