BEGIN:VCALENDAR
VERSION:2.0
PRODID:TypiCMS
X-PUBLISHED-TTL:P1W
BEGIN:VEVENT
UID:69e9559ad4e00
DTSTART;TZID=Europe/Brussels:20211214T100000
SEQUENCE:0
TRANSP:OPAQUE
DTEND;TZID=Europe/Brussels:20211214T120000
URL:https://voiceeu.org/activities/webinar-on-tackling-the-humanitarian-con
 sequences-of-climate-change-scaling-up-anticipatory-action
LOCATION: –  – 
SUMMARY:Webinar on 'Tackling the humanitarian consequences of climate chang
 e: Scaling up anticipatory action’ 
CLASS:PUBLIC
DTSTAMP:20260423T011122Z
END:VEVENT
END:VCALENDAR