BEGIN:VCALENDAR
VERSION:2.0
PRODID:TypiCMS
X-PUBLISHED-TTL:P1W
BEGIN:VEVENT
UID:69e55a15764e5
DTSTART;TZID=Europe/Brussels:20191128T103000
SEQUENCE:0
TRANSP:OPAQUE
DTEND;TZID=Europe/Brussels:20191128T120000
URL:https://voiceeu.org/activities/voice-webinar-ahead-of-dg-echo-annual-pa
 rtners-conference
LOCATION: –  – 
SUMMARY:VOICE Webinar ahead of the 2019 ECHO Annual Partners’ Conference
CLASS:PUBLIC
DTSTAMP:20260420T004125Z
END:VEVENT
END:VCALENDAR