BEGIN:VCALENDAR
VERSION:2.0
PRODID:TypiCMS
X-PUBLISHED-TTL:P1W
BEGIN:VEVENT
UID:69e4f9e0d2d08
DTSTART;TZID=Europe/Brussels:20210928T100000
SEQUENCE:0
TRANSP:OPAQUE
DTEND;TZID=Europe/Brussels:20210928T130000
URL:https://voiceeu.org/activities/voice-resilience-nexus-working-group-mee
 ting
LOCATION: –  – 
SUMMARY:VOICE Resilience-Nexus Working Group meeting
CLASS:PUBLIC
DTSTAMP:20260419T175056Z
END:VEVENT
END:VCALENDAR