BEGIN:VCALENDAR
VERSION:2.0
PRODID:TypiCMS
X-PUBLISHED-TTL:P1W
BEGIN:VEVENT
UID:69e7366903b3d
DTSTART;TZID=Europe/Brussels:20210921T100000
SEQUENCE:0
TRANSP:OPAQUE
DTEND;TZID=Europe/Brussels:20210921T123000
URL:https://voiceeu.org/activities/voice-members-meeting-with-echo-s-direct
 or-general-mrs-paraskevi-michou
LOCATION: –  – 
SUMMARY:VOICE Members’ Meeting with ECHO’s Director General Ms Paraskev
 i Michou
CLASS:PUBLIC
DTSTAMP:20260421T103345Z
END:VEVENT
END:VCALENDAR