BEGIN:VCALENDAR
VERSION:2.0
PRODID:TypiCMS
X-PUBLISHED-TTL:P1W
BEGIN:VEVENT
UID:69e504f2b5b12
DTSTART;TZID=Europe/Brussels:20220622T090000
SEQUENCE:0
TRANSP:OPAQUE
DTEND;TZID=Europe/Brussels:20220622T170000
URL:https://voiceeu.org/activities/voice-general-assembly-3
LOCATION:Rue de Washington\, 40\nB-1050 Brussels – Brussels  – 
SUMMARY:VOICE General Assembly 
CLASS:PUBLIC
DTSTAMP:20260419T183810Z
END:VEVENT
END:VCALENDAR