BEGIN:VCALENDAR
VERSION:2.0
PRODID:TypiCMS
X-PUBLISHED-TTL:P1W
BEGIN:VEVENT
UID:69e734daaa4f4
DTSTART;TZID=Europe/Brussels:20210527T090000
SEQUENCE:0
TRANSP:OPAQUE
DTEND;TZID=Europe/Brussels:20210527T130000
URL:https://voiceeu.org/activities/voice-general-assembly-2
LOCATION: –  – 
SUMMARY:VOICE General Assembly
CLASS:PUBLIC
DTSTAMP:20260421T102706Z
END:VEVENT
END:VCALENDAR