BEGIN:VCALENDAR
VERSION:2.0
PRODID:TypiCMS
X-PUBLISHED-TTL:P1W
BEGIN:VEVENT
UID:69e9f19d66151
DTSTART;TZID=Europe/Brussels:20200513T090000
SEQUENCE:0
TRANSP:OPAQUE
DTEND;TZID=Europe/Brussels:20200513T130000
URL:https://voiceeu.org/activities/voice-general-assembly-1
LOCATION: –  – 
SUMMARY:VOICE General Assembly
CLASS:PUBLIC
DTSTAMP:20260423T121701Z
END:VEVENT
END:VCALENDAR