BEGIN:VCALENDAR
VERSION:2.0
PRODID:TypiCMS
X-PUBLISHED-TTL:P1W
BEGIN:VEVENT
UID:69e92912c8abb
DTSTART;TZID=Europe/Brussels:20180523T180000
SEQUENCE:0
TRANSP:OPAQUE
DTEND;TZID=Europe/Brussels:20180523T210000
URL:https://voiceeu.org/activities/voice-event-do-no-harm-and-conflict-sens
 itivity-two-sides-of-the-same-coin
LOCATION:Rue de la Loi 42\, (Métro Arts-loi) – Brussels  – Belgium
SUMMARY:VOICE Event: Do no harm and conflict sensitivity: two sides of the 
 same coin?
CLASS:PUBLIC
DTSTAMP:20260422T220122Z
END:VEVENT
END:VCALENDAR