BEGIN:VCALENDAR
VERSION:2.0
PRODID:TypiCMS
X-PUBLISHED-TTL:P1W
BEGIN:VEVENT
UID:69e9a23a0d3fd
DTSTART;TZID=Europe/Brussels:20181128T120000
SEQUENCE:0
TRANSP:OPAQUE
DTEND;TZID=Europe/Brussels:20181128T133000
URL:https://voiceeu.org/activities/voice-brown-bag-lunch
LOCATION:Rue Royal 71 – Brussels – Belgium
SUMMARY:VOICE brown bag lunch
CLASS:PUBLIC
DTSTAMP:20260423T063818Z
END:VEVENT
END:VCALENDAR