BEGIN:VCALENDAR
VERSION:2.0
PRODID:TypiCMS
X-PUBLISHED-TTL:P1W
BEGIN:VEVENT
UID:69e5e9b492009
DTSTART;TZID=Europe/Brussels:20230622T083000
SEQUENCE:0
TRANSP:OPAQUE
DTEND;TZID=Europe/Brussels:20230622T170000
URL:https://voiceeu.org/activities/voice-annual-general-assembly
LOCATION:Rue Washington 40\, 1050 Ixelles – Brussel – Belgium
SUMMARY:VOICE Annual General Assembly 
CLASS:PUBLIC
DTSTAMP:20260420T105412Z
END:VEVENT
END:VCALENDAR