BEGIN:VCALENDAR
VERSION:2.0
PRODID:TypiCMS
X-PUBLISHED-TTL:P1W
BEGIN:VEVENT
UID:69eba98fbad67
DTSTART;TZID=Europe/Brussels:20240318T183000
SEQUENCE:0
TRANSP:OPAQUE
DTEND;TZID=Europe/Brussels:20240318T220000
URL:https://voiceeu.org/activities/screening-of-the-documentary-for-sama-hi
LOCATION:Rue Théodore Verhaegen 158 – Bruxelles – Belgium 
SUMMARY:Screening of the documentary \"For Sama\" (HI)
CLASS:PUBLIC
DTSTAMP:20260424T193407Z
END:VEVENT
END:VCALENDAR