BEGIN:VCALENDAR
VERSION:2.0
PRODID:TypiCMS
X-PUBLISHED-TTL:P1W
BEGIN:VEVENT
UID:69e6d6aa39154
DTSTART;TZID=Europe/Brussels:20230322T000000
SEQUENCE:0
TRANSP:OPAQUE
DTEND;TZID=Europe/Brussels:20230322T000000
URL:https://voiceeu.org/activities/save-the-date-for-the-high-level-confere
 nce-on-education-in-emergencies
LOCATION: – Brussels – Belgium
SUMMARY:High-level Conference on Education in Emergencies (EiE)
CLASS:PUBLIC
DTSTAMP:20260421T034514Z
END:VEVENT
END:VCALENDAR