BEGIN:VCALENDAR
VERSION:2.0
PRODID:TypiCMS
X-PUBLISHED-TTL:P1W
BEGIN:VEVENT
UID:69e891339fee1
DTSTART;TZID=Europe/Brussels:20230616T110000
SEQUENCE:0
TRANSP:OPAQUE
DTEND;TZID=Europe/Brussels:20230616T123000
URL:https://voiceeu.org/activities/round-table-event-breaking-the-cycle-of-
 neglect
LOCATION: –  – 
SUMMARY:Round Table Event: “Breaking the cycle of neglect”
CLASS:PUBLIC
DTSTAMP:20260422T111323Z
END:VEVENT
END:VCALENDAR