BEGIN:VCALENDAR
VERSION:2.0
PRODID:TypiCMS
X-PUBLISHED-TTL:P1W
BEGIN:VEVENT
UID:69e8213f186b1
DTSTART;TZID=Europe/Brussels:20180529T174500
SEQUENCE:0
TRANSP:OPAQUE
DTEND;TZID=Europe/Brussels:20180529T142848
URL:https://voiceeu.org/activities/outside-the-kabubble-the-reality-of-need
 s-on-the-ground-in-afghanistan
LOCATION:Rue Froissart 95 – Brussels – Belgium
SUMMARY:Outside the Kabubble: the reality of needs on the ground in Afghani
 stan
CLASS:PUBLIC
DTSTAMP:20260422T031543Z
END:VEVENT
END:VCALENDAR