BEGIN:VCALENDAR
VERSION:2.0
PRODID:TypiCMS
X-PUBLISHED-TTL:P1W
BEGIN:VEVENT
UID:69e737c354657
DTSTART;TZID=Europe/Brussels:20190618T184500
SEQUENCE:0
TRANSP:OPAQUE
DTEND;TZID=Europe/Brussels:20190618T200000
URL:https://voiceeu.org/activities/making-inclusion-in-humanitarian-setting
 s-a-reality-dg-echo-s-guidance-note-on-the-inclusion-of-persons-with-disab
 ilities-in-eu-funded-humanitarian-aid-operations
LOCATION:Avenue du Port\, 86c – Brussels – Belgium
SUMMARY:Making inclusion in humanitarian settings a reality: DG ECHO’s gu
 idance note on the inclusion of persons with disabilities in EU-funded hum
 anitarian aid operations
CLASS:PUBLIC
DTSTAMP:20260421T103931Z
END:VEVENT
END:VCALENDAR