BEGIN:VCALENDAR
VERSION:2.0
PRODID:TypiCMS
X-PUBLISHED-TTL:P1W
BEGIN:VEVENT
UID:69e9a2cbee51a
DTSTART;TZID=Europe/Brussels:20240404T150000
SEQUENCE:0
TRANSP:OPAQUE
DTEND;TZID=Europe/Brussels:20240404T161500
URL:https://voiceeu.org/activities/lifeline-at-risk-supporting-markets-thro
 ugh-cash-in-sudan
LOCATION: –  – 
SUMMARY:Lifeline at Risk: Supporting Markets through Cash in Sudan
CLASS:PUBLIC
DTSTAMP:20260423T064043Z
END:VEVENT
END:VCALENDAR