BEGIN:VCALENDAR
VERSION:2.0
PRODID:TypiCMS
X-PUBLISHED-TTL:P1W
BEGIN:VEVENT
UID:69e756da719c3
DTSTART;TZID=Europe/Brussels:20210126T180000
SEQUENCE:0
TRANSP:OPAQUE
DTEND;TZID=Europe/Brussels:20210126T200000
URL:https://voiceeu.org/activities/irc-democracy-diplomacy-development-glob
 al-politics-in-the-age-of-covid-19
LOCATION: –  – 
SUMMARY:International Rescue Committee- Democracy\, Diplomacy & Development
 : Global Politics in the Age of COVID-19
CLASS:PUBLIC
DTSTAMP:20260421T125210Z
END:VEVENT
END:VCALENDAR