BEGIN:VCALENDAR
VERSION:2.0
PRODID:TypiCMS
X-PUBLISHED-TTL:P1W
BEGIN:VEVENT
UID:69ea69328f8b9
DTSTART;TZID=Europe/Brussels:20210421T110000
SEQUENCE:0
TRANSP:OPAQUE
DTEND;TZID=Europe/Brussels:20210421T123000
URL:https://voiceeu.org/activities/inclusive-education-for-all-webex-meetin
 g
LOCATION: –  – 
SUMMARY:Inclusive Education For All. Webex meeting 
CLASS:PUBLIC
DTSTAMP:20260423T204714Z
END:VEVENT
END:VCALENDAR