BEGIN:VCALENDAR
VERSION:2.0
PRODID:TypiCMS
X-PUBLISHED-TTL:P1W
BEGIN:VEVENT
UID:69ed5afce1ce8
DTSTART;TZID=Europe/Brussels:20230706T150000
SEQUENCE:0
TRANSP:OPAQUE
DTEND;TZID=Europe/Brussels:20230706T163000
URL:https://voiceeu.org/activities/humanitarian-response-and-loss-and-damag
 e-finance-coordinating-action-to-meet-rising-needs
LOCATION: –  – 
SUMMARY:Humanitarian Response and Loss and Damage Finance: Coordinating Act
 ion to Meet Rising Needs - ICVA & PHAP
CLASS:PUBLIC
DTSTAMP:20260426T022324Z
END:VEVENT
END:VCALENDAR