BEGIN:VCALENDAR
VERSION:2.0
PRODID:TypiCMS
X-PUBLISHED-TTL:P1W
BEGIN:VEVENT
UID:69e733aa55b77
DTSTART;TZID=Europe/Brussels:20171207T001517
SEQUENCE:0
TRANSP:OPAQUE
DTEND;TZID=Europe/Brussels:20171207T001700
URL:https://voiceeu.org/activities/how-europe-takes-forward-refugee-compact
 s-a-girl-child-perspective
LOCATION:Square de Meeûs 30\, 1000  – Brussels – Belgium
SUMMARY:How Europe takes forward Refugee Compacts – A Girl Child perspect
 ive
CLASS:PUBLIC
DTSTAMP:20260421T102202Z
END:VEVENT
END:VCALENDAR