BEGIN:VCALENDAR
VERSION:2.0
PRODID:TypiCMS
X-PUBLISHED-TTL:P1W
BEGIN:VEVENT
UID:69e9a21b09d71
DTSTART;TZID=Europe/Brussels:20230328T143000
SEQUENCE:0
TRANSP:OPAQUE
DTEND;TZID=Europe/Brussels:20230328T170000
URL:https://voiceeu.org/activities/hearing-at-the-committee-on-budgets-eu-e
 xternal-action-and-crisis-response-is-the-eu-budget-fit-for-purpose
LOCATION: – Brussels – 
SUMMARY:Hearing at the Committee on Budgets - EU external action and crisis
  response: is the EU budget fit for purpose?
CLASS:PUBLIC
DTSTAMP:20260423T063747Z
END:VEVENT
END:VCALENDAR