BEGIN:VCALENDAR
VERSION:2.0
PRODID:TypiCMS
X-PUBLISHED-TTL:P1W
BEGIN:VEVENT
UID:69e92c9d9c658
DTSTART;TZID=Europe/Brussels:20190320T110000
SEQUENCE:0
TRANSP:OPAQUE
DTEND;TZID=Europe/Brussels:20190320T170000
URL:https://voiceeu.org/activities/grand-bargain-workshop-risk-sharing-to-r
 each-the-grand-bargain
LOCATION:35-41 Lower Marsh\, Lambeth\,  – London – UK
SUMMARY:Grand Bargain Workshop: Risk Sharing to reach the ‘Grand’ Barga
 in?
CLASS:PUBLIC
DTSTAMP:20260422T221629Z
END:VEVENT
END:VCALENDAR