BEGIN:VCALENDAR
VERSION:2.0
PRODID:TypiCMS
X-PUBLISHED-TTL:P1W
BEGIN:VEVENT
UID:69e92af89245c
DTSTART;TZID=Europe/Brussels:20200213T103000
SEQUENCE:0
TRANSP:OPAQUE
DTEND;TZID=Europe/Brussels:20200213T160000
URL:https://voiceeu.org/activities/grand-bargain-task-force-meeting-4
LOCATION:Rue Royale 71 – Brussels – Belgium
SUMMARY:Grand Bargain Task Force meeting
CLASS:PUBLIC
DTSTAMP:20260422T220928Z
END:VEVENT
END:VCALENDAR