BEGIN:VCALENDAR
VERSION:2.0
PRODID:TypiCMS
X-PUBLISHED-TTL:P1W
BEGIN:VEVENT
UID:69e748001f6c9
DTSTART;TZID=Europe/Brussels:20260416T130000
SEQUENCE:0
TRANSP:OPAQUE
DTEND;TZID=Europe/Brussels:20260416T150000
URL:https://voiceeu.org/activities/global-webinar-my-body-my-future
LOCATION: – Budapest – 
SUMMARY:Global Webinar: My Body My Future
CLASS:PUBLIC
DTSTAMP:20260421T114848Z
END:VEVENT
END:VCALENDAR